BEGIN:VCALENDAR
VERSION:2.0
PRODID:-//Medieval Armoured Combat Ireland - ECPv4.6.2//NONSGML v1.0//EN
CALSCALE:GREGORIAN
METHOD:PUBLISH
X-WR-CALNAME:Medieval Armoured Combat Ireland
X-ORIGINAL-URL:http://armouredcombat.ie
X-WR-CALDESC:Events for Medieval Armoured Combat Ireland
BEGIN:VEVENT
DTSTART;TZID=UTC+0:20170604T140000
DTEND;TZID=UTC+0:20170604T160000
DTSTAMP:20171104T212153
CREATED:20170609T171852Z
LAST-MODIFIED:20170609T171852Z
UID:577-1496584800-1496592000@armouredcombat.ie
SUMMARY:Athenry Training 4th of June
DESCRIPTION:This training is open to anyone aged 18+\, no previous experience is needed and all levels of fitness and ability are welcome. \nThere will be a training fee of €10 to cover the cost of the hall and equipment.\nTraining will be a mix of cardio and fitness\, footwork for duels\, posture for attack and defence\, and there will be some sparring as well.\nWear comfortable training clothes and bring some water. \n\n\n	Related\n
URL:http://armouredcombat.ie/event/athenry-training-4th-of-june/
CATEGORIES:Training
ATTACH;FMTTYPE=image/jpeg:http://armouredcombat.ie/wp-content/uploads/2017/06/577_image_18739210_648239342047782_3628910146266060370_o.jpg
END:VEVENT
END:VCALENDAR