BEGIN:VCALENDAR
VERSION:2.0
PRODID:-//Medieval Armoured Combat Ireland - ECPv4.6.2//NONSGML v1.0//EN
CALSCALE:GREGORIAN
METHOD:PUBLISH
X-WR-CALNAME:Medieval Armoured Combat Ireland
X-ORIGINAL-URL:http://armouredcombat.ie
X-WR-CALDESC:Events for Medieval Armoured Combat Ireland
BEGIN:VEVENT
DTSTART;TZID=UTC+0:20170507T140000
DTEND;TZID=UTC+0:20170507T180000
DTSTAMP:20171104T212252
CREATED:20170609T171905Z
LAST-MODIFIED:20170609T171905Z
UID:585-1494165600-1494180000@armouredcombat.ie
SUMMARY:Athenry Training And IMCF qualifiers
DESCRIPTION:The training is open to people of all levels of ability and we encourage first time participants.\nAt some stage during the day some of the fighters will don armour to fight for the right to represent Ireland in the IMCF world championships. \n\n\n	Related\n
URL:http://armouredcombat.ie/event/athenry-training-and-imcf-qualifiers/
LOCATION:Athenry\, IE
CATEGORIES:Training
ATTACH;FMTTYPE=image/jpeg:http://armouredcombat.ie/wp-content/uploads/2017/06/585_image_17990428_631545977050452_986376156949002958_o.jpg
END:VEVENT
END:VCALENDAR