BEGIN:VCALENDAR
VERSION:2.0
PRODID:-//Medieval Armoured Combat Ireland - ECPv4.6.2//NONSGML v1.0//EN
CALSCALE:GREGORIAN
METHOD:PUBLISH
X-WR-CALNAME:Medieval Armoured Combat Ireland
X-ORIGINAL-URL:http://armouredcombat.ie
X-WR-CALDESC:Events for Medieval Armoured Combat Ireland
BEGIN:VEVENT
DTSTART;TZID=UTC+0:20170618T160000
DTEND;TZID=UTC+0:20170618T180000
DTSTAMP:20171104T212117
CREATED:20170609T172916Z
LAST-MODIFIED:20170609T172916Z
UID:588-1497801600-1497808800@armouredcombat.ie
SUMMARY:Mayo Training Session
DESCRIPTION:This training is open to anyone aged 18+\, no previous experience is needed and all are welcome.\nAll you need is comfortable training clothes\, we will provide the rest! \nSoon we will post what exactly we are going to focuse on at this traning session. It’s 2 hours so it will be intensive and fun 🙂\nThere will be a fee of €10 for all attending.\nPLEASE SHARE AND INVITE ANYONE WHO MIGHT BE INTERESTED! \n\n\n	Related\n
URL:http://armouredcombat.ie/event/mayo-training-session-2/
CATEGORIES:Training
ATTACH;FMTTYPE=image/jpeg:http://armouredcombat.ie/wp-content/uploads/2017/06/588_image_19105645_653353998202983_3569794433155576723_n.jpg
END:VEVENT
END:VCALENDAR