BEGIN:VCALENDAR
VERSION:2.0
PRODID:-//Medieval Armoured Combat Ireland - ECPv4.6.2//NONSGML v1.0//EN
CALSCALE:GREGORIAN
METHOD:PUBLISH
X-WR-CALNAME:Medieval Armoured Combat Ireland
X-ORIGINAL-URL:http://armouredcombat.ie
X-WR-CALDESC:Events for Medieval Armoured Combat Ireland
BEGIN:VEVENT
DTSTART;TZID=UTC+0:20170128T120000
DTEND;TZID=UTC+0:20170129T160000
DTSTAMP:20171106T135818
CREATED:20170124T142429Z
LAST-MODIFIED:20170124T142429Z
UID:409-1485604800-1485705600@armouredcombat.ie
SUMMARY:National Training Session\, Club get-together and AGM
DESCRIPTION:We will be having a full 5-hour national training session followed by a club gathering of some form (food and drink will probably be involved)\, staying in the hostel within the community centre and then having our AGM the next day. \nThe training is open to anyone aged 18+\, no previous experience is needed and all levels of fitness and ability are welcome.\nAll you need is comfortable training clothes\, we will provide the rest!\nFor all those with armour please bring it\, we will using it. \nTraining will involve cardio and stamina work\, balance and footwork\, attack and defense with weapon and shield\, High Intensity Interval Training\, sparring with padded training weapons and helmets\, grappling and team combat.\nThere will be a fee of €10 for all attending.\nPLEASE SHARE AND INVITE ANYONE WHO MIGHT BE INTERESTED! \nIf you want to stay in the hostel book through here: http://ballymacarbry.com/facilities/hostel/ \n\n\n	Related\n
URL:http://armouredcombat.ie/event/national-training-session-club-get-together-and-agm/
LOCATION:Ballymacarbry\, Clonmel\, Co Tipperary\, IE
ATTACH;FMTTYPE=image/png:http://armouredcombat.ie/wp-content/uploads/2017/01/facebook_409_national-training-session-club-get-together-and-agm_image.png
END:VEVENT
END:VCALENDAR